BEGIN:VCALENDAR
VERSION:2.0
PRODID:-//legalcloud24.de GmbH - ECPv6.15.20//NONSGML v1.0//EN
CALSCALE:GREGORIAN
METHOD:PUBLISH
X-ORIGINAL-URL:https://www.legalcloud24.de
X-WR-CALDESC:Veranstaltungen für legalcloud24.de GmbH
REFRESH-INTERVAL;VALUE=DURATION:PT1H
X-Robots-Tag:noindex
X-PUBLISHED-TTL:PT1H
BEGIN:VTIMEZONE
TZID:Europe/Berlin
BEGIN:DAYLIGHT
TZOFFSETFROM:+0100
TZOFFSETTO:+0200
TZNAME:CEST
DTSTART:20250330T010000
END:DAYLIGHT
BEGIN:STANDARD
TZOFFSETFROM:+0200
TZOFFSETTO:+0100
TZNAME:CET
DTSTART:20251026T010000
END:STANDARD
BEGIN:DAYLIGHT
TZOFFSETFROM:+0100
TZOFFSETTO:+0200
TZNAME:CEST
DTSTART:20260329T010000
END:DAYLIGHT
BEGIN:STANDARD
TZOFFSETFROM:+0200
TZOFFSETTO:+0100
TZNAME:CET
DTSTART:20261025T010000
END:STANDARD
BEGIN:DAYLIGHT
TZOFFSETFROM:+0100
TZOFFSETTO:+0200
TZNAME:CEST
DTSTART:20270328T010000
END:DAYLIGHT
BEGIN:STANDARD
TZOFFSETFROM:+0200
TZOFFSETTO:+0100
TZNAME:CET
DTSTART:20271031T010000
END:STANDARD
END:VTIMEZONE
BEGIN:VEVENT
DTSTART;TZID=Europe/Berlin:20260917T090000
DTEND;TZID=Europe/Berlin:20260917T100000
DTSTAMP:20260420T202437
CREATED:20260311T144542Z
LAST-MODIFIED:20260325T093923Z
UID:10000008-1789635600-1789639200@www.legalcloud24.de
SUMMARY:Preisanpassungsschreiben\, Ablesekarten und Jahresabrechnungen versenden\, inkl. Postretourenbearbeitung
DESCRIPTION:Preisanpassungsschreiben\, Ablesekarten und Jahresabrechnungen versenden\, inkl. Postretourenbearbeitung\nWir erläutern Ihnen in Zusammenarbeit mit unserem Dienstleister die Optimierung von Korrespondenz und Kommunikation – ohne Mindestmengen\, ohne Setup- oder Einrichtungskosten\, ohne Laufzeitverträge oder Kündigungsfristen.\nDafür mit Spezialisierung auf den elektronischen Briefdienst und die Verarbeitung sensibelster Daten. Der Versand erfolgt über die Deutsche Post AG.\nOptimieren Sie Ihre Portokosten UND Ihre Prozesse. \nDa die Teilnehmerzahlen begrenzt sind\, bitten wir Sie um Ihre Anmeldung und lassen Ihnen mit der Terminbestätigung Ihre Einwahldaten zukommen. \nModeration und Organisation\nlegalcloud 24.de GmbH \n		\n			\n					\n				\n				\n					Referentin				\n				\n				\n				\n							\n					\n				\n				\n			\n							\n				\n									\n						Jutta Seidel					\n				\n									\n						Angestellte\, Marketing- und Vertriebsleitung bei on-collect solutions AG. Mit über 20 Jahren Erfahrung in Gesundheit/Pharma\, IT und Forderungsmanagement verbindet sie betriebswirtschaftliches Know-how mit strategischer Prozessoptimierung.					\n				\n									\n					\n						Jetzt anmelden!					\n					\n							\n						\n						\n				\n				\n				\n									Jutta Seidel ist Marketing- und Vertriebsleiterin bei on-collect solutions AG und verfügt über mehr als 20 Jahre Berufserfahrung in den Bereichen Gesundheit/Pharma\, IT-Software und IT-Systemhausgeschäft. Ergänzt durch sieben Jahre im Debitoren- und Forderungsmanagement vereint sie fundiertes betriebswirtschaftliches Wissen mit einem ganzheitlichen Blick auf Unternehmensprozesse. Ihr Fokus liegt auf der strategischen Ausrichtung und Optimierung von Vertriebs- und Marketingstrukturen sowie auf der praxisnahen Unterstützung im Forderungsmanagement. 								\n				\n					\n				\n				\n		\nPreise\nAlle Preise verstehen sich inklusive der gesetzlichen Mehrwertsteuer.\nBitte beachten Sie\, dass zur Teilnahme am Webinar eine Videokamera und Audio/ein Headset verpflichtend ist! \n 
URL:https://www.legalcloud24.de/veranstaltung/preisanpassungsschreiben-ablesekarten-und-jahresabrechnungen-versenden-inkl-postretourenbearbeitung/
CATEGORIES:Dokumente/Verträge,Energie,Prozesse
ATTACH;FMTTYPE=image/webp:https://www.legalcloud24.de/wp-content/uploads/preisanpassungsschreiben-ablesekarten-und-jahresabrechnungen-versenden-inkl-postretourenbearbeitung-2.webp
LOCATION:https://www.legalcloud24.de/veranstaltung/preisanpassungsschreiben-ablesekarten-und-jahresabrechnungen-versenden-inkl-postretourenbearbeitung/
END:VEVENT
END:VCALENDAR